Package: trackViewer Version: 1.44.0 Command: /Library/Frameworks/R.framework/Resources/bin/R CMD INSTALL trackViewer StartedAt: 2025-10-13 17:38:42 -0400 (Mon, 13 Oct 2025) EndedAt: 2025-10-13 17:39:52 -0400 (Mon, 13 Oct 2025) EllapsedTime: 69.6 seconds RetCode: 0 Status: OK