Package: tkWidgets Version: 1.86.0 Command: rm -rf tkWidgets.buildbin-libdir && mkdir tkWidgets.buildbin-libdir && /Users/biocbuild/BBS/utils/build-universal.sh tkWidgets_1.86.0.tar.gz /Library/Frameworks/R.framework/Resources/bin/R tkWidgets.buildbin-libdir StartedAt: 2025-10-15 20:51:44 -0400 (Wed, 15 Oct 2025) EndedAt: 2025-10-15 20:51:55 -0400 (Wed, 15 Oct 2025) EllapsedTime: 11.2 seconds RetCode: 0 Status: OK PackageFile: tkWidgets_1.86.0.tgz PackageFileSize: 658.6 KiB