Package: timecourse Version: 1.80.0 Command: /home/biocbuild/R/R/bin/R CMD INSTALL timecourse StartedAt: 2025-10-13 20:24:24 -0000 (Mon, 13 Oct 2025) EndedAt: 2025-10-13 20:24:31 -0000 (Mon, 13 Oct 2025) EllapsedTime: 7.4 seconds RetCode: 0 Status: OK