Package: timecourse Version: 1.80.0 Command: /home/biocbuild/R/R/bin/R CMD build --keep-empty-dirs --no-resave-data timecourse StartedAt: 2025-10-14 05:24:25 -0000 (Tue, 14 Oct 2025) EndedAt: 2025-10-14 05:24:46 -0000 (Tue, 14 Oct 2025) EllapsedTime: 21.0 seconds RetCode: 0 Status: OK PackageFile: timecourse_1.80.0.tar.gz PackageFileSize: 833.3 KiB