Package: timecourse Version: 1.80.0 Command: /Library/Frameworks/R.framework/Resources/bin/R CMD build --keep-empty-dirs --no-resave-data timecourse StartedAt: 2025-10-14 11:05:10 -0400 (Tue, 14 Oct 2025) EndedAt: 2025-10-14 11:05:34 -0400 (Tue, 14 Oct 2025) EllapsedTime: 24.0 seconds RetCode: 0 Status: OK PackageFile: timecourse_1.80.0.tar.gz PackageFileSize: 841 KiB