Package: timeOmics Version: 1.20.0 Command: /home/biocbuild/R/R/bin/R CMD INSTALL timeOmics StartedAt: 2025-10-13 20:21:20 -0000 (Mon, 13 Oct 2025) EndedAt: 2025-10-13 20:21:43 -0000 (Mon, 13 Oct 2025) EllapsedTime: 22.9 seconds RetCode: 0 Status: OK