Package: tilingArray Version: 1.86.0 Command: /home/biocbuild/bbs-3.21-bioc/R/bin/R CMD INSTALL tilingArray StartedAt: 2025-10-15 15:53:04 -0400 (Wed, 15 Oct 2025) EndedAt: 2025-10-15 15:53:28 -0400 (Wed, 15 Oct 2025) EllapsedTime: 24.1 seconds RetCode: 0 Status: OK