Package: tilingArray Version: 1.86.0 Command: /Library/Frameworks/R.framework/Resources/bin/R CMD build --keep-empty-dirs --no-resave-data tilingArray StartedAt: 2025-10-13 23:15:59 -0400 (Mon, 13 Oct 2025) EndedAt: 2025-10-13 23:17:29 -0400 (Mon, 13 Oct 2025) EllapsedTime: 90.5 seconds RetCode: 0 Status: OK PackageFile: tilingArray_1.86.0.tar.gz PackageFileSize: 3.487 MiB