Package: tilingArray Version: 1.86.0 Command: /home/biocbuild/R/R/bin/R CMD INSTALL tilingArray StartedAt: 2025-10-13 21:12:07 -0000 (Mon, 13 Oct 2025) EndedAt: 2025-10-13 21:12:42 -0000 (Mon, 13 Oct 2025) EllapsedTime: 35.7 seconds RetCode: 0 Status: OK