Package: tilingArray Version: 1.86.0 Command: /home/biocbuild/R/R/bin/R CMD build --keep-empty-dirs --no-resave-data tilingArray StartedAt: 2025-10-14 05:24:20 -0000 (Tue, 14 Oct 2025) EndedAt: 2025-10-14 05:25:11 -0000 (Tue, 14 Oct 2025) EllapsedTime: 51.0 seconds RetCode: 0 Status: OK PackageFile: tilingArray_1.86.0.tar.gz PackageFileSize: 3.461 MiB