Package: tilingArray Version: 1.86.0 Command: /Library/Frameworks/R.framework/Resources/bin/R CMD check --install=check:tilingArray.install-out.txt --library=/Library/Frameworks/R.framework/Resources/library --no-vignettes --timings tilingArray_1.86.0.tar.gz StartedAt: 2025-10-15 15:27:23 -0400 (Wed, 15 Oct 2025) EndedAt: 2025-10-15 15:30:30 -0400 (Wed, 15 Oct 2025) EllapsedTime: 187.5 seconds RetCode: 0 Status: OK CheckDir: tilingArray.Rcheck Warnings: 0