Package: tilingArray Version: 1.86.0 Command: /Library/Frameworks/R.framework/Resources/bin/R CMD build --keep-empty-dirs --no-resave-data tilingArray StartedAt: 2025-10-14 11:04:54 -0400 (Tue, 14 Oct 2025) EndedAt: 2025-10-14 11:05:50 -0400 (Tue, 14 Oct 2025) EllapsedTime: 55.8 seconds RetCode: 0 Status: OK PackageFile: tilingArray_1.86.0.tar.gz PackageFileSize: 3.487 MiB