Package: tidytof Version: 1.2.0 Command: /Library/Frameworks/R.framework/Resources/bin/R CMD INSTALL tidytof StartedAt: 2025-10-13 15:24:56 -0400 (Mon, 13 Oct 2025) EndedAt: 2025-10-13 15:25:55 -0400 (Mon, 13 Oct 2025) EllapsedTime: 59.1 seconds RetCode: 0 Status: OK