Package: tidytof Version: 1.2.0 Command: /Library/Frameworks/R.framework/Resources/bin/R CMD build --keep-empty-dirs --no-resave-data tidytof StartedAt: 2025-04-21 18:43:44 -0400 (Mon, 21 Apr 2025) EndedAt: 2025-04-21 18:48:35 -0400 (Mon, 21 Apr 2025) EllapsedTime: 291.0 seconds RetCode: 0 Status: OK PackageFile: tidytof_1.2.0.tar.gz PackageFileSize: 2.687 MiB