Package: tidytof Version: 1.2.0 Command: /home/biocbuild/R/R/bin/R CMD build --keep-empty-dirs --no-resave-data tidytof StartedAt: 2025-10-14 05:23:48 -0000 (Tue, 14 Oct 2025) EndedAt: 2025-10-14 05:30:57 -0000 (Tue, 14 Oct 2025) EllapsedTime: 428.3 seconds RetCode: 0 Status: OK PackageFile: tidytof_1.2.0.tar.gz PackageFileSize: 2.415 MiB