Package: tidytof Version: 1.2.0 Command: /Library/Frameworks/R.framework/Resources/bin/R CMD build --keep-empty-dirs --no-resave-data tidytof StartedAt: 2025-10-14 11:04:06 -0400 (Tue, 14 Oct 2025) EndedAt: 2025-10-14 11:09:49 -0400 (Tue, 14 Oct 2025) EllapsedTime: 343.2 seconds RetCode: 0 Status: OK PackageFile: tidytof_1.2.0.tar.gz PackageFileSize: 2.682 MiB