Package: tidytof Version: 1.2.0 Command: rm -rf tidytof.buildbin-libdir && mkdir tidytof.buildbin-libdir && /Users/biocbuild/BBS/utils/build-universal.sh tidytof_1.2.0.tar.gz /Library/Frameworks/R.framework/Resources/bin/R tidytof.buildbin-libdir StartedAt: 2025-10-15 20:51:09 -0400 (Wed, 15 Oct 2025) EndedAt: 2025-10-15 20:51:44 -0400 (Wed, 15 Oct 2025) EllapsedTime: 35.4 seconds RetCode: 0 Status: OK PackageFile: tidytof_1.2.0.tgz PackageFileSize: 3.196 MiB