Package: tidysbml Version: 1.2.0 Command: /home/biocbuild/bbs-3.21-bioc/R/bin/R CMD INSTALL tidysbml StartedAt: 2025-10-15 15:04:22 -0400 (Wed, 15 Oct 2025) EndedAt: 2025-10-15 15:04:42 -0400 (Wed, 15 Oct 2025) EllapsedTime: 19.8 seconds RetCode: 0 Status: OK