Package: tidyomics Version: 1.4.0 Command: /home/biocbuild/bbs-3.21-bioc/R/bin/R CMD build --keep-empty-dirs --no-resave-data tidyomics StartedAt: 2025-10-15 20:18:28 -0400 (Wed, 15 Oct 2025) EndedAt: 2025-10-15 20:19:04 -0400 (Wed, 15 Oct 2025) EllapsedTime: 36.0 seconds RetCode: 0 Status: OK PackageFile: tidyomics_1.4.0.tar.gz PackageFileSize: 56.04 KiB