Package: tidyomics Version: 1.4.0 Command: /Library/Frameworks/R.framework/Resources/bin/R CMD INSTALL tidyomics StartedAt: 2025-10-13 16:02:48 -0400 (Mon, 13 Oct 2025) EndedAt: 2025-10-13 16:04:02 -0400 (Mon, 13 Oct 2025) EllapsedTime: 74.8 seconds RetCode: 0 Status: OK