Package: tidyomics Version: 1.4.0 Command: rm -rf tidyomics.buildbin-libdir && mkdir tidyomics.buildbin-libdir && /Users/biocbuild/BBS/utils/build-universal.sh tidyomics_1.4.0.tar.gz /Library/Frameworks/R.framework/Resources/bin/R tidyomics.buildbin-libdir StartedAt: 2025-10-14 14:57:41 -0400 (Tue, 14 Oct 2025) EndedAt: 2025-10-14 14:59:07 -0400 (Tue, 14 Oct 2025) EllapsedTime: 85.8 seconds RetCode: 0 Status: OK PackageFile: tidyomics_1.4.0.tgz PackageFileSize: 73.16 KiB