Package: tidyomics Version: 1.4.0 Command: /Library/Frameworks/R.framework/Resources/bin/R CMD INSTALL tidyomics StartedAt: 2025-10-13 16:58:11 -0400 (Mon, 13 Oct 2025) EndedAt: 2025-10-13 16:58:55 -0400 (Mon, 13 Oct 2025) EllapsedTime: 43.2 seconds RetCode: 0 Status: OK