Package: tidyomics Version: 1.4.0 Command: rm -rf tidyomics.buildbin-libdir && mkdir tidyomics.buildbin-libdir && /Users/biocbuild/BBS/utils/build-universal.sh tidyomics_1.4.0.tar.gz /Library/Frameworks/R.framework/Resources/bin/R tidyomics.buildbin-libdir StartedAt: 2025-10-15 20:50:43 -0400 (Wed, 15 Oct 2025) EndedAt: 2025-10-15 20:51:30 -0400 (Wed, 15 Oct 2025) EllapsedTime: 47.4 seconds RetCode: 0 Status: OK PackageFile: tidyomics_1.4.0.tgz PackageFileSize: 73.2 KiB