Package: tidybulk Version: 1.20.0 Command: /home/biocbuild/bbs-3.21-bioc/R/bin/R CMD INSTALL tidybulk StartedAt: 2025-10-15 15:23:47 -0400 (Wed, 15 Oct 2025) EndedAt: 2025-10-15 15:24:36 -0400 (Wed, 15 Oct 2025) EllapsedTime: 49.0 seconds RetCode: 0 Status: OK