Package: tidybulk Version: 1.20.0 Command: /Library/Frameworks/R.framework/Resources/bin/R CMD INSTALL tidybulk StartedAt: 2025-10-13 15:44:25 -0400 (Mon, 13 Oct 2025) EndedAt: 2025-10-13 15:46:14 -0400 (Mon, 13 Oct 2025) EllapsedTime: 109.2 seconds RetCode: 0 Status: OK