Package: tidybulk Version: 1.20.0 Command: /Library/Frameworks/R.framework/Resources/bin/R CMD build --keep-empty-dirs --no-resave-data tidybulk StartedAt: 2025-10-13 23:13:18 -0400 (Mon, 13 Oct 2025) EndedAt: 2025-10-13 23:16:20 -0400 (Mon, 13 Oct 2025) EllapsedTime: 182.3 seconds RetCode: 0 Status: OK PackageFile: tidybulk_1.20.0.tar.gz PackageFileSize: 2.876 MiB