Package: tidybulk Version: 1.20.0 Command: /home/biocbuild/R/R/bin/R CMD INSTALL tidybulk StartedAt: 2025-10-13 20:38:00 -0000 (Mon, 13 Oct 2025) EndedAt: 2025-10-13 20:39:11 -0000 (Mon, 13 Oct 2025) EllapsedTime: 71.3 seconds RetCode: 0 Status: OK