Package: tidybulk Version: 1.20.0 Command: /Library/Frameworks/R.framework/Resources/bin/R CMD build --keep-empty-dirs --no-resave-data tidybulk StartedAt: 2025-10-14 11:00:30 -0400 (Tue, 14 Oct 2025) EndedAt: 2025-10-14 11:02:15 -0400 (Tue, 14 Oct 2025) EllapsedTime: 105.5 seconds RetCode: 0 Status: OK PackageFile: tidybulk_1.20.0.tar.gz PackageFileSize: 2.877 MiB