Package: tidybulk Version: 1.20.0 Command: rm -rf tidybulk.buildbin-libdir && mkdir tidybulk.buildbin-libdir && /Users/biocbuild/BBS/utils/build-universal.sh tidybulk_1.20.0.tar.gz /Library/Frameworks/R.framework/Resources/bin/R tidybulk.buildbin-libdir StartedAt: 2025-10-15 20:50:04 -0400 (Wed, 15 Oct 2025) EndedAt: 2025-10-15 20:51:09 -0400 (Wed, 15 Oct 2025) EllapsedTime: 64.6 seconds RetCode: 0 Status: OK PackageFile: tidybulk_1.20.0.tgz PackageFileSize: 3.404 MiB