Package: tidySummarizedExperiment Version: 1.18.1 Command: /home/biocbuild/bbs-3.21-bioc/R/bin/R CMD build --keep-empty-dirs --no-resave-data tidySummarizedExperiment StartedAt: 2025-10-15 20:18:55 -0400 (Wed, 15 Oct 2025) EndedAt: 2025-10-15 20:19:38 -0400 (Wed, 15 Oct 2025) EllapsedTime: 43.0 seconds RetCode: 0 Status: OK PackageFile: tidySummarizedExperiment_1.18.1.tar.gz PackageFileSize: 359.7 KiB