Package: tidySummarizedExperiment Version: 1.18.1 Command: /Library/Frameworks/R.framework/Resources/bin/R CMD build --keep-empty-dirs --no-resave-data tidySummarizedExperiment StartedAt: 2025-10-13 23:15:20 -0400 (Mon, 13 Oct 2025) EndedAt: 2025-10-13 23:17:06 -0400 (Mon, 13 Oct 2025) EllapsedTime: 105.3 seconds RetCode: 0 Status: OK PackageFile: tidySummarizedExperiment_1.18.1.tar.gz PackageFileSize: 365.1 KiB