Package: tidySummarizedExperiment Version: 1.18.1 Command: rm -rf tidySummarizedExperiment.buildbin-libdir && mkdir tidySummarizedExperiment.buildbin-libdir && /Users/biocbuild/BBS/utils/build-universal.sh tidySummarizedExperiment_1.18.1.tar.gz /Library/Frameworks/R.framework/Resources/bin/R tidySummarizedExperiment.buildbin-libdir StartedAt: 2025-10-14 14:57:57 -0400 (Tue, 14 Oct 2025) EndedAt: 2025-10-14 14:59:06 -0400 (Tue, 14 Oct 2025) EllapsedTime: 69.5 seconds RetCode: 0 Status: OK PackageFile: tidySummarizedExperiment_1.18.1.tgz PackageFileSize: 685.3 KiB