Package: tidySummarizedExperiment Version: 1.18.1 Command: /home/biocbuild/R/R/bin/R CMD INSTALL tidySummarizedExperiment StartedAt: 2025-10-13 20:48:05 -0000 (Mon, 13 Oct 2025) EndedAt: 2025-10-13 20:48:46 -0000 (Mon, 13 Oct 2025) EllapsedTime: 41.1 seconds RetCode: 0 Status: OK