Package: tidySummarizedExperiment Version: 1.18.1 Command: /home/biocbuild/R/R/bin/R CMD check --install=check:tidySummarizedExperiment.install-out.txt --library=/home/biocbuild/R/R/site-library --no-vignettes --timings tidySummarizedExperiment_1.18.1.tar.gz StartedAt: 2025-10-10 14:51:38 -0000 (Fri, 10 Oct 2025) EndedAt: 2025-10-10 14:57:51 -0000 (Fri, 10 Oct 2025) EllapsedTime: 372.4 seconds RetCode: 0 Status: OK CheckDir: tidySummarizedExperiment.Rcheck Warnings: 0