Package: tidySummarizedExperiment Version: 1.18.1 Command: /home/biocbuild/R/R/bin/R CMD build --keep-empty-dirs --no-resave-data tidySummarizedExperiment StartedAt: 2025-10-14 05:23:39 -0000 (Tue, 14 Oct 2025) EndedAt: 2025-10-14 05:24:41 -0000 (Tue, 14 Oct 2025) EllapsedTime: 62.0 seconds RetCode: 0 Status: OK PackageFile: tidySummarizedExperiment_1.18.1.tar.gz PackageFileSize: 355.2 KiB