Package: tidySpatialExperiment Version: 1.4.1 Command: /home/biocbuild/bbs-3.21-bioc/R/bin/R CMD INSTALL tidySpatialExperiment StartedAt: 2025-10-15 15:21:42 -0400 (Wed, 15 Oct 2025) EndedAt: 2025-10-15 15:22:12 -0400 (Wed, 15 Oct 2025) EllapsedTime: 29.9 seconds RetCode: 0 Status: OK