Package: tidySpatialExperiment Version: 1.4.1 Command: /home/biocbuild/bbs-3.21-bioc/R/bin/R CMD build --keep-empty-dirs --no-resave-data tidySpatialExperiment StartedAt: 2025-10-15 20:18:54 -0400 (Wed, 15 Oct 2025) EndedAt: 2025-10-15 20:19:47 -0400 (Wed, 15 Oct 2025) EllapsedTime: 53.1 seconds RetCode: 0 Status: OK PackageFile: tidySpatialExperiment_1.4.1.tar.gz PackageFileSize: 4.301 MiB