Package: tidySpatialExperiment Version: 1.4.1 Command: /Library/Frameworks/R.framework/Resources/bin/R CMD INSTALL tidySpatialExperiment StartedAt: 2025-10-13 16:26:42 -0400 (Mon, 13 Oct 2025) EndedAt: 2025-10-13 16:27:17 -0400 (Mon, 13 Oct 2025) EllapsedTime: 35.1 seconds RetCode: 0 Status: OK