Package: tidySpatialExperiment Version: 1.4.1 Command: /Library/Frameworks/R.framework/Resources/bin/R CMD check --install=check:tidySpatialExperiment.install-out.txt --library=/Library/Frameworks/R.framework/Resources/library --no-vignettes --timings tidySpatialExperiment_1.4.1.tar.gz StartedAt: 2025-10-15 15:22:16 -0400 (Wed, 15 Oct 2025) EndedAt: 2025-10-15 15:27:23 -0400 (Wed, 15 Oct 2025) EllapsedTime: 307.0 seconds RetCode: 0 Status: OK CheckDir: tidySpatialExperiment.Rcheck Warnings: 0