Package: tidySpatialExperiment Version: 1.4.1 Command: /Library/Frameworks/R.framework/Resources/bin/R CMD build --keep-empty-dirs --no-resave-data tidySpatialExperiment StartedAt: 2025-10-14 11:03:02 -0400 (Tue, 14 Oct 2025) EndedAt: 2025-10-14 11:04:14 -0400 (Tue, 14 Oct 2025) EllapsedTime: 72.3 seconds RetCode: 0 Status: OK PackageFile: tidySpatialExperiment_1.4.1.tar.gz PackageFileSize: 4.271 MiB