Package: tidySingleCellExperiment Version: 1.18.1 Command: /home/biocbuild/bbs-3.21-bioc/R/bin/R CMD build --keep-empty-dirs --no-resave-data tidySingleCellExperiment StartedAt: 2025-10-15 20:18:52 -0400 (Wed, 15 Oct 2025) EndedAt: 2025-10-15 20:20:10 -0400 (Wed, 15 Oct 2025) EllapsedTime: 78.1 seconds RetCode: 0 Status: OK PackageFile: tidySingleCellExperiment_1.18.1.tar.gz PackageFileSize: 1.789 MiB