Package: tidySingleCellExperiment Version: 1.18.1 Command: /Library/Frameworks/R.framework/Resources/bin/R CMD build --keep-empty-dirs --no-resave-data tidySingleCellExperiment StartedAt: 2025-10-13 23:15:08 -0400 (Mon, 13 Oct 2025) EndedAt: 2025-10-13 23:18:07 -0400 (Mon, 13 Oct 2025) EllapsedTime: 178.6 seconds RetCode: 0 Status: OK PackageFile: tidySingleCellExperiment_1.18.1.tar.gz PackageFileSize: 1.821 MiB