Package: tidySingleCellExperiment Version: 1.18.1 Command: rm -rf tidySingleCellExperiment.buildbin-libdir && mkdir tidySingleCellExperiment.buildbin-libdir && /Users/biocbuild/BBS/utils/build-universal.sh tidySingleCellExperiment_1.18.1.tar.gz /Library/Frameworks/R.framework/Resources/bin/R tidySingleCellExperiment.buildbin-libdir StartedAt: 2025-10-14 14:57:48 -0400 (Tue, 14 Oct 2025) EndedAt: 2025-10-14 14:59:01 -0400 (Tue, 14 Oct 2025) EllapsedTime: 72.7 seconds RetCode: 0 Status: OK PackageFile: tidySingleCellExperiment_1.18.1.tgz PackageFileSize: 2.132 MiB