Package: tidySingleCellExperiment Version: 1.18.1 Command: /home/biocbuild/R/R/bin/R CMD INSTALL tidySingleCellExperiment StartedAt: 2025-10-13 20:33:08 -0000 (Mon, 13 Oct 2025) EndedAt: 2025-10-13 20:33:48 -0000 (Mon, 13 Oct 2025) EllapsedTime: 40.4 seconds RetCode: 0 Status: OK