Package: tidySingleCellExperiment Version: 1.18.1 Command: /home/biocbuild/R/R/bin/R CMD build --keep-empty-dirs --no-resave-data tidySingleCellExperiment StartedAt: 2025-10-14 05:23:17 -0000 (Tue, 14 Oct 2025) EndedAt: 2025-10-14 05:25:12 -0000 (Tue, 14 Oct 2025) EllapsedTime: 115.1 seconds RetCode: 0 Status: OK PackageFile: tidySingleCellExperiment_1.18.1.tar.gz PackageFileSize: 1.785 MiB