Package: tidySingleCellExperiment Version: 1.18.1 Command: /Library/Frameworks/R.framework/Resources/bin/R CMD INSTALL tidySingleCellExperiment StartedAt: 2025-10-13 16:13:08 -0400 (Mon, 13 Oct 2025) EndedAt: 2025-10-13 16:13:42 -0400 (Mon, 13 Oct 2025) EllapsedTime: 33.8 seconds RetCode: 0 Status: OK