Package: tidySingleCellExperiment Version: 1.18.1 Command: /Library/Frameworks/R.framework/Resources/bin/R CMD build --keep-empty-dirs --no-resave-data tidySingleCellExperiment StartedAt: 2025-10-14 11:02:36 -0400 (Tue, 14 Oct 2025) EndedAt: 2025-10-14 11:04:28 -0400 (Tue, 14 Oct 2025) EllapsedTime: 111.0 seconds RetCode: 0 Status: OK PackageFile: tidySingleCellExperiment_1.18.1.tar.gz PackageFileSize: 1.811 MiB