Package: tidySingleCellExperiment Version: 1.18.1 Command: rm -rf tidySingleCellExperiment.buildbin-libdir && mkdir tidySingleCellExperiment.buildbin-libdir && /Users/biocbuild/BBS/utils/build-universal.sh tidySingleCellExperiment_1.18.1.tar.gz /Library/Frameworks/R.framework/Resources/bin/R tidySingleCellExperiment.buildbin-libdir StartedAt: 2025-10-15 20:50:51 -0400 (Wed, 15 Oct 2025) EndedAt: 2025-10-15 20:51:28 -0400 (Wed, 15 Oct 2025) EllapsedTime: 37.2 seconds RetCode: 0 Status: OK PackageFile: tidySingleCellExperiment_1.18.1.tgz PackageFileSize: 2.123 MiB