Package: tidyFlowCore Version: 1.2.0 Command: E:\biocbuild\bbs-3.21-bioc\R\bin\R.exe CMD check --no-multiarch --install=check:tidyFlowCore.install-out.txt --library=E:\biocbuild\bbs-3.21-bioc\R\library --no-vignettes --timings tidyFlowCore_1.2.0.tar.gz StartedAt: 2025-08-15 07:49:34 -0400 (Fri, 15 Aug 2025) EndedAt: 2025-08-15 07:51:37 -0400 (Fri, 15 Aug 2025) EllapsedTime: 123.1 seconds RetCode: 0 Status: OK CheckDir: tidyFlowCore.Rcheck Warnings: 0