Package: tidyFlowCore Version: 1.2.0 Command: /home/biocbuild/R/R/bin/R CMD INSTALL tidyFlowCore StartedAt: 2025-10-13 20:25:57 -0000 (Mon, 13 Oct 2025) EndedAt: 2025-10-13 20:26:10 -0000 (Mon, 13 Oct 2025) EllapsedTime: 13.4 seconds RetCode: 0 Status: OK